BEGIN:VCALENDAR
PRODID:-//hacksw/handcal//NONSGML v1.0//EN
VERSION:2.0
CALSCALE:GREGORIAN
BEGIN:VEVENT
DTSTART:20260620T230000Z
DTEND:20260620T233000Z
SUMMARY:Chapter 48 Bike Raffle
DESCRIPTION:Chapter 48 Bike Raffle
SEQUENCE:1
TRANSP:OPAQUE
PRIORITY:1
CLASS:PRIVATE
UID:69ea1fde3eafb
BEGIN:VALARM
TRIGGER;VALUE=DURATION:-PT1H
ACTION:DISPLAY
ACTION:AUDIO
SUMMARY:Chapter 48 Bike Raffle
DESCRIPTION:Chapter 48 Bike Raffle
END:VALARM
END:VEVENT
END:VCALENDAR
