BEGIN:VCALENDAR
PRODID:-//hacksw/handcal//NONSGML v1.0//EN
VERSION:2.0
CALSCALE:GREGORIAN
BEGIN:VEVENT
DTSTART:20260620T150000Z
DTEND:20260620T220000Z
SUMMARY:MEMORIAL POKER RUN
DESCRIPTION:MEMORIAL POKER RUN
SEQUENCE:1
TRANSP:OPAQUE
PRIORITY:1
CLASS:PRIVATE
UID:69ea1ee3a629f
BEGIN:VALARM
TRIGGER;VALUE=DURATION:-PT1H
ACTION:DISPLAY
ACTION:AUDIO
SUMMARY:MEMORIAL POKER RUN
DESCRIPTION:MEMORIAL POKER RUN
END:VALARM
END:VEVENT
END:VCALENDAR
